BEGIN:VCALENDAR
VERSION:2.0
PRODID:-//SportPlan//Event Calendar//EN
CALSCALE:GREGORIAN
BEGIN:VEVENT
UID:43135a84-e326-4081-9e6b-f6963ce667a3@sportplan.local
DTSTAMP:20260420T230007Z
DTSTART;VALUE=DATE:20260623
DTEND;VALUE=DATE:20260624
SUMMARY:Põlva 12. teisipäevak
DESCRIPTION:Põlva 12. teisipäevak is an official amateur orienteering event in Koolmajärve\, Põlva County\, Estonia on 23 June 2026. The official Estonian Orienteering Federation event detail page confirms the date\, organizer Kobras\, and Koolmajärve venue\, while the official OK Põlva Kobras Tuesday-series schedule adds Põlva-Värska tee 7 km location context for this public weekday participation event.
LOCATION:Koolmajärve\, Põlva-Värska tee 7 km
URL:https://sportplan.vercel.app/en/events/polva-12-teisipaevak-koolmajarve-2026-06-23
END:VEVENT
END:VCALENDAR
