BEGIN:VCALENDAR
VERSION:2.0
PRODID:-//SportPlan//Event Calendar//EN
CALSCALE:GREGORIAN
BEGIN:VEVENT
UID:43b38fea-0471-49e9-8b41-fc400b0fc528@sportplan.local
DTSTAMP:20260420T211457Z
DTSTART;VALUE=DATE:20260801
DTEND;VALUE=DATE:20260802
SUMMARY:Pitz Alpine Glacier Trail P90
DESCRIPTION:Pitz Alpine Glacier Trail P90 findet am 1. August 2026 in Pitztal\, Tirol statt. Die Veranstaltung ist eine starke Wahl für Teilnehmende\, die ein gut organisiertes sportliches Erlebnis suchen. Die ausgeschriebene Distanz beträgt 87 km und hilft bei der Planung von Tempo\, Training und Anreise.
LOCATION:Pitztal\, Tirol
URL:https://sportplan.vercel.app/en/events/pitz-alpine-glacier-trail-p90-pitztal-2026-08-01-87k
END:VEVENT
END:VCALENDAR
