BEGIN:VCALENDAR
VERSION:2.0
PRODID:-//SportPlan//Event Calendar//EN
CALSCALE:GREGORIAN
BEGIN:VEVENT
UID:6d736179-c9af-4ec9-a00b-578fe514a6f8@sportplan.local
DTSTAMP:20260420T211517Z
DTSTART;VALUE=DATE:20260801
DTEND;VALUE=DATE:20260802
SUMMARY:Pitz Alpine Glacier Trail P45 Glacier
DESCRIPTION:Pitz Alpine Glacier Trail P45 Glacier findet am 1. August 2026 in Pitztal\, Tirol statt. Die Veranstaltung ist eine starke Wahl für Teilnehmende\, die ein gut organisiertes sportliches Erlebnis suchen. Die ausgeschriebene Distanz beträgt 45 km und hilft bei der Planung von Tempo\, Training und Anreise.
LOCATION:Pitztal\, Tirol
URL:https://sportplan.vercel.app/en/events/pitz-alpine-glacier-trail-p45-glacier-pitztal-2026-08-01-45k
END:VEVENT
END:VCALENDAR
