BEGIN:VCALENDAR
VERSION:2.0
PRODID:-//SportPlan//Event Calendar//EN
CALSCALE:GREGORIAN
BEGIN:VEVENT
UID:521b6188-aed9-4455-bf54-6d6855959eed@sportplan.local
DTSTAMP:20260420T180904Z
DTSTART;VALUE=DATE:20260801
DTEND;VALUE=DATE:20260803
SUMMARY:Pitz Alpine Glacier Trail By UTMB 105K
DESCRIPTION:Pitz Alpine Glacier Trail By UTMB 105K findet am 1. August 2026 in Pitztal\, Tirol statt. Die Veranstaltung ist eine starke Wahl für Teilnehmende\, die ein gut organisiertes sportliches Erlebnis suchen. Die ausgeschriebene Distanz beträgt 105 km und hilft bei der Planung von Tempo\, Training und Anreise.
LOCATION:Pitztal\, Tirol
URL:https://sportplan.vercel.app/en/events/pitz-alpine-glacier-trail-by-utmb-105k-pitztal-2026-08-01
END:VEVENT
END:VCALENDAR
