BEGIN:VCALENDAR
VERSION:2.0
PRODID:-//SportPlan//Event Calendar//EN
CALSCALE:GREGORIAN
BEGIN:VEVENT
UID:d0fb946c-ba5f-43f3-8fbe-8e9afdae8e51@sportplan.local
DTSTAMP:20260420T192810Z
DTSTART;VALUE=DATE:20260911
DTEND;VALUE=DATE:20260913
SUMMARY:Picos de la Demanda Trail 36K 2026
DESCRIPTION:Picos de la Demanda Trail 36K 2026 se celebra en Ezcaray\, La Rioja el 11 de septiembre de 2026\, reuniendo a los participantes para una jornada deportiva con gran ambiente. El recorrido cubre aproximadamente 36 km. Se espera una experiencia bien organizada\, un pelotón motivado y una excelente atmósfera el día del evento.
LOCATION:Ezcaray\, La Rioja
URL:https://sportplan.vercel.app/en/events/picos-de-la-demanda-trail-36k-2026-ezcaray-2026-09-11
END:VEVENT
END:VCALENDAR
