BEGIN:VCALENDAR
VERSION:2.0
PRODID:-//SportPlan//Event Calendar//EN
CALSCALE:GREGORIAN
BEGIN:VEVENT
UID:6c606c44-5e55-4224-ade7-1732eef61d7d@sportplan.local
DTSTAMP:20260420T192810Z
DTSTART;VALUE=DATE:20260912
DTEND;VALUE=DATE:20260913
SUMMARY:Picos de la Demanda Trail 24K 2026
DESCRIPTION:Picos de la Demanda Trail 24K 2026 se celebra en Ezcaray\, La Rioja el 12 de septiembre de 2026\, reuniendo a los participantes para una jornada deportiva con gran ambiente. El recorrido cubre aproximadamente 24 km. Se espera una experiencia bien organizada\, un pelotón motivado y una excelente atmósfera el día del evento.
LOCATION:Ezcaray\, La Rioja
URL:https://sportplan.vercel.app/en/events/picos-de-la-demanda-trail-24k-2026-ezcaray-2026-09-12
END:VEVENT
END:VCALENDAR
