BEGIN:VCALENDAR
VERSION:2.0
PRODID:-//SportPlan//Event Calendar//EN
CALSCALE:GREGORIAN
BEGIN:VEVENT
UID:ebf560f8-564d-4515-9fe1-0f755975c11b@sportplan.local
DTSTAMP:20260420T192011Z
DTSTART;VALUE=DATE:20260719
DTEND;VALUE=DATE:20260720
SUMMARY:Pico das Cabras Trail 2026 (8K/14K/23K/44K)
DESCRIPTION:Discovered via direct fetch of corridasdemontanha.com.br/calendario\; Brazilian mountain trail running circuit 2026 – Pico das Cabras stage.
LOCATION:Campinas\, São Paulo\, Brazil
URL:https://sportplan.vercel.app/en/events/pico-das-cabras-trail-2026-8k-14k-23k-44k-2026-07-19
END:VEVENT
END:VCALENDAR
