BEGIN:VCALENDAR
VERSION:2.0
PRODID:-//SportPlan//Event Calendar//EN
CALSCALE:GREGORIAN
BEGIN:VEVENT
UID:356c6ce4-b21a-473a-9f90-f263a1c0deb0@sportplan.local
DTSTAMP:20260420T180444Z
DTSTART;VALUE=DATE:20260418
DTEND;VALUE=DATE:20260419
SUMMARY:PH Supersprint Kros Duatlon 2026
DESCRIPTION:PH Supersprint Kros Duatlon 2026 is an official Croatian Triathlon Federation supersprint cross duathlon championship in Slavonski Brod on 18 April 2026. The federation race dashboard lists it separately for 2026\, and the official federation race bulletin confirms the event weekend at Tvrđava Brod with amateur age-group participation.
LOCATION:Tvrđava Brod\, Slavonski Brod
URL:https://sportplan.vercel.app/en/events/ph-supersprint-kros-duatlon-slavonski-brod-2026-04-18
END:VEVENT
END:VCALENDAR
