BEGIN:VCALENDAR
VERSION:2.0
PRODID:-//SportPlan//Event Calendar//EN
CALSCALE:GREGORIAN
BEGIN:VEVENT
UID:44625458-56aa-48ea-bbbe-c7d08e8a7dd1@sportplan.local
DTSTAMP:20260420T210921Z
DTSTART;VALUE=DATE:20260927
DTEND;VALUE=DATE:20260928
SUMMARY:PH Srednje Dugi Triatlon Zaton 2026
DESCRIPTION:PH Srednje Dugi Triatlon Zaton 2026 is an official Croatian Triathlon Federation middle-distance triathlon in Zaton\, Croatia on 27 September 2026. The federation's 2026 official competition calendar lists it as a national championship event for U23\, APS\, and DS categories\, supporting amateur age-group participation.
LOCATION:Zaton
URL:https://sportplan.vercel.app/en/events/ph-srednje-dugi-triatlon-zaton-2026-2026-09-27
END:VEVENT
END:VCALENDAR
