BEGIN:VCALENDAR
VERSION:2.0
PRODID:-//SportPlan//Event Calendar//EN
CALSCALE:GREGORIAN
BEGIN:VEVENT
UID:d781ce47-73f3-47b4-b8a0-b27863b74c06@sportplan.local
DTSTAMP:20260420T204328Z
DTSTART;VALUE=DATE:20260509
DTEND;VALUE=DATE:20260510
SUMMARY:Perimetrail de Arguis
DESCRIPTION:Perimetrail de Arguis se celebra el 9 mayo 2026 en Arguis\, Huesca\, ofreciendo una cita ideal para participantes que buscan una experiencia bien organizada y con ambiente deportivo. El evento propone un recorrido con un recorrido claramente señalizado\, pensado para disfrutar del entorno\, mantener un buen ritmo y compartir la jornada con otros asistentes.
LOCATION:Arguis\, Huesca
URL:https://sportplan.vercel.app/en/events/perimetrail-de-arguis-arguis-2026-05-09
END:VEVENT
END:VCALENDAR
