BEGIN:VCALENDAR
VERSION:2.0
PRODID:-//SportPlan//Event Calendar//EN
CALSCALE:GREGORIAN
BEGIN:VEVENT
UID:c5ea0762-ba1e-4cd8-819e-48e8768151e3@sportplan.local
DTSTAMP:20260420T180606Z
DTSTART;VALUE=DATE:20260502
DTEND;VALUE=DATE:20260503
SUMMARY:Penyagolosa Trail Csp
DESCRIPTION:Penyagolosa Trail Csp se celebrará el 2/5/2026 en Vistabella - Penyagolosa\, ES\, con un recorrido de 107 km. Es una gran oportunidad para disfrutar del ambiente del evento\, marcarte un objetivo deportivo y vivir una jornada activa en un entorno especial.
LOCATION:Vistabella - Penyagolosa
URL:https://sportplan.vercel.app/en/events/penyagolosa-trail-csp-vistabella-del-maestrat-2026-05-02
END:VEVENT
END:VCALENDAR
