BEGIN:VCALENDAR
VERSION:2.0
PRODID:-//SportPlan//Event Calendar//EN
CALSCALE:GREGORIAN
BEGIN:VEVENT
UID:23ce7631-48ed-404c-82d7-e299bc468fca@sportplan.local
DTSTAMP:20260420T175557Z
DTSTART;VALUE=DATE:20260927
DTEND;VALUE=DATE:20260928
SUMMARY:Pembrokeshire Half-Marathon & 10k
DESCRIPTION:
LOCATION:Erewash
URL:https://sportplan.vercel.app/en/events/pembrokeshire-half-marathon-10k-erewash-2026-09-27
END:VEVENT
END:VCALENDAR
