BEGIN:VCALENDAR
VERSION:2.0
PRODID:-//SportPlan//Event Calendar//EN
CALSCALE:GREGORIAN
BEGIN:VEVENT
UID:40702190-d9f4-4277-91cf-41a1fb99026b@sportplan.local
DTSTAMP:20260420T234424Z
DTSTART;VALUE=DATE:20260918
DTEND;VALUE=DATE:20260920
SUMMARY:Peak District Challenge
DESCRIPTION:
LOCATION:Derbyshire Dales
URL:https://sportplan.vercel.app/en/events/peak-district-challenge-derbyshire-dales-2026-09-18
END:VEVENT
END:VCALENDAR
