BEGIN:VCALENDAR
VERSION:2.0
PRODID:-//SportPlan//Event Calendar//EN
CALSCALE:GREGORIAN
BEGIN:VEVENT
UID:807407b1-0546-4bc0-98b3-a238b1e52ad7@sportplan.local
DTSTAMP:20260420T193601Z
DTSTART;VALUE=DATE:20260905
DTEND;VALUE=DATE:20260906
SUMMARY:Patagonian International Marathon® 2026 – Map & Elevation Profile
DESCRIPTION:Official map and elevation profile page for 2026 edition\; route SW of Torres del Paine National Park\; vehicular gravel roads with curves and steep slopes\; confirmed accessible sub-page\; Chile trail running discovery
LOCATION:Torres del Paine\, Patagonia\, Chile
URL:https://sportplan.vercel.app/en/events/patagonian-international-marathon-2026-map-elevation-profile-2026-09-05
END:VEVENT
END:VCALENDAR
