BEGIN:VCALENDAR
VERSION:2.0
PRODID:-//SportPlan//Event Calendar//EN
CALSCALE:GREGORIAN
BEGIN:VEVENT
UID:3052d66a-c175-480b-bf71-9bb5fe7a6396@sportplan.local
DTSTAMP:20260420T192057Z
DTSTART;VALUE=DATE:20260604
DTEND;VALUE=DATE:20260605
SUMMARY:Pärnumaa neljapäevak
DESCRIPTION:Pärnumaa neljapäevak is an official amateur weekly orienteering event in Jõulumäe-Võiste\, Estonia on 4 June 2026. The official Estonian Orienteering Federation event page confirms the date\, Jõulumäe-Võiste venue\, organizer West\, and the official OK West information link. OK West's official Pärnumaa orienteerumisneljapäevakud page presents the recurring public Thursday series and links its 2026 calendar\, guide\, and venues pages for participants.
LOCATION:Jõulumäe Recreational Sports Centre\, Häädemeeste vald\, Estonia
URL:https://sportplan.vercel.app/en/events/parnumaa-neljapaevak-joulumae-voiste-2026-06-04
END:VEVENT
END:VCALENDAR
