BEGIN:VCALENDAR
VERSION:2.0
PRODID:-//SportPlan//Event Calendar//EN
CALSCALE:GREGORIAN
BEGIN:VEVENT
UID:74042f3e-0020-4150-8158-14c2728c8e21@sportplan.local
DTSTAMP:20260420T210729Z
DTSTART;VALUE=DATE:20260920
DTEND;VALUE=DATE:20260921
SUMMARY:Pantelimon Triatlon by Unstoppable 2026
DESCRIPTION:Pantelimon Triatlon by Unstoppable 2026 is an official amateur triathlon in Pantelimon\, Romania on 20 September 2026. The Romanian Triathlon Federation calendar lists standard\, sprint\, and supersprint formats and points to the official Unstoppable triathlon site for the event.
LOCATION:Pantelimon
URL:https://sportplan.vercel.app/en/events/pantelimon-triatlon-by-unstoppable-2026-pantelimon-2026-09-20
END:VEVENT
END:VCALENDAR
