BEGIN:VCALENDAR
VERSION:2.0
PRODID:-//SportPlan//Event Calendar//EN
CALSCALE:GREGORIAN
BEGIN:VEVENT
UID:c432b0f0-593c-4339-af20-eed1ca5be81e@sportplan.local
DTSTAMP:20260420T163113Z
DTSTART;VALUE=DATE:20260704
DTEND;VALUE=DATE:20260705
SUMMARY:PALMS Open Water Estonia - Käsmu 2026
DESCRIPTION:PALMS Open Water Estonia - Käsmu 2026 is an official amateur open-water swimming event in Käsmu\, Estonia\, scheduled for 4 July 2026. The official Eestimaraton organizer page lists public-entry 100 m\, 200 m\, 500 m\, 1 km\, and 3.5 km distances in Käsmu.
LOCATION:Käsmu\, Estonia
URL:https://sportplan.vercel.app/en/events/palms-open-water-estonia-kasmu-2026-07-04
END:VEVENT
END:VCALENDAR
