BEGIN:VCALENDAR
VERSION:2.0
PRODID:-//SportPlan//Event Calendar//EN
CALSCALE:GREGORIAN
BEGIN:VEVENT
UID:533c6f38-bc1b-4e7c-8e36-4913a6a788ef@sportplan.local
DTSTAMP:20260420T230145Z
DTSTART;VALUE=DATE:20260502
DTEND;VALUE=DATE:20260503
SUMMARY:Oxbow 50K
DESCRIPTION:
LOCATION:Carberry
URL:https://sportplan.vercel.app/en/events/oxbow-50k-carberry-2026-05-02
END:VEVENT
END:VCALENDAR
