BEGIN:VCALENDAR
VERSION:2.0
PRODID:-//SportPlan//Event Calendar//EN
CALSCALE:GREGORIAN
BEGIN:VEVENT
UID:7ed4466e-bec6-4f92-be8b-56fefa308bde@sportplan.local
DTSTAMP:20260420T180603Z
DTSTART;VALUE=DATE:20260611
DTEND;VALUE=DATE:20260613
SUMMARY:Outdoor Cycling Series - Vosges du Nord
DESCRIPTION:Outdoor Cycling Series - Vosges du Nord aura lieu à Saverne le 11 juin 2026. C'est un rendez-vous idéal pour profiter de l'ambiance de l'événement et vivre une expérience sportive bien organisée. Une belle option pour les participants qui veulent se dépasser comme pour ceux qui recherchent une journée active dans un cadre agréable.
LOCATION:Saverne
URL:https://sportplan.vercel.app/en/events/outdoor-cycling-series-vosges-du-nord-saverne-2026-06-11
END:VEVENT
END:VCALENDAR
