BEGIN:VCALENDAR
VERSION:2.0
PRODID:-//SportPlan//Event Calendar//EN
CALSCALE:GREGORIAN
BEGIN:VEVENT
UID:a0eaebc2-39d5-487a-96be-61e742bdb566@sportplan.local
DTSTAMP:20260420T181107Z
DTSTART;VALUE=DATE:20260620
DTEND;VALUE=DATE:20260622
SUMMARY:Outdoor Cycling Series - Baronnies Provençales
DESCRIPTION:Outdoor Cycling Series - Baronnies Provençales aura lieu le 20 juin 2026 à Veynes. C'est un rendez-vous idéal pour profiter de l'ambiance de l'événement et partager un bon moment avec les autres participants et spectateurs. Pensez à consulter les informations pratiques et à préparer votre venue à l'avance.
LOCATION:Veynes
URL:https://sportplan.vercel.app/en/events/outdoor-cycling-series-baronnies-provencales-veynes-2026-06-20
END:VEVENT
END:VCALENDAR
