BEGIN:VCALENDAR
VERSION:2.0
PRODID:-//SportPlan//Event Calendar//EN
CALSCALE:GREGORIAN
BEGIN:VEVENT
UID:32d40b5f-e85c-46cf-b9d1-30816cb7988e@sportplan.local
DTSTAMP:20260420T190948Z
DTSTART;VALUE=DATE:20260523
DTEND;VALUE=DATE:20260524
SUMMARY:Ottawa 5K
DESCRIPTION:discovered via official Run Ottawa 2026 event calendar\; Tamarack Ottawa Race Weekend Day 1\; Canada underrepresented for running
LOCATION:Ottawa\, ON\, Canada
URL:https://sportplan.vercel.app/en/events/ottawa-5k-2026-05-23
END:VEVENT
END:VCALENDAR
