BEGIN:VCALENDAR
VERSION:2.0
PRODID:-//SportPlan//Event Calendar//EN
CALSCALE:GREGORIAN
BEGIN:VEVENT
UID:18c9a426-e635-44b4-8b52-a0665f01923c@sportplan.local
DTSTAMP:20260420T204723Z
DTSTART;VALUE=DATE:20260712
DTEND;VALUE=DATE:20260715
SUMMARY:Ötscher Ultra Marathon
DESCRIPTION:Ötscher Ultra Marathon findet am 12. Juli 2026 in Lackenhof statt. Die Veranstaltung ist ideal für alle\, die ein gut organisiertes Event mit offizieller Distanz und mit motivierender Laufatmosphäre suchen. Der Start bei diesem Rennen bietet eine schöne Gelegenheit\, die Strecke zu genießen\, sich ein sportliches Ziel zu setzen und gemeinsam mit anderen Läuferinnen und Läufern an den Start zu gehen.
LOCATION:Lackenhof
URL:https://sportplan.vercel.app/en/events/otscher-ultra-marathon-lackenhof-2026-07-12
END:VEVENT
END:VCALENDAR
