BEGIN:VCALENDAR
VERSION:2.0
PRODID:-//SportPlan//Event Calendar//EN
CALSCALE:GREGORIAN
BEGIN:VEVENT
UID:9ea3c79d-0557-47b6-8c16-e8af0bef5434@sportplan.local
DTSTAMP:20260420T204753Z
DTSTART;VALUE=DATE:20260531
DTEND;VALUE=DATE:20260601
SUMMARY:Österreichischer Frauenlauf
DESCRIPTION:Österreichischer Frauenlauf ist eine Veranstaltung am 2026-05-31 in Viena. Sie ist eine gute Wahl für alle\, die ein gut organisiertes Sportevent suchen. Die Veranstaltung passt sowohl zu erfahrenen Teilnehmenden als auch zu Menschen\, die etwas Neues ausprobieren möchten.
LOCATION:Viena
URL:https://sportplan.vercel.app/en/events/osterreichischer-frauenlauf-viena-2026-05-31
END:VEVENT
END:VCALENDAR
