BEGIN:VCALENDAR
VERSION:2.0
PRODID:-//SportPlan//Event Calendar//EN
CALSCALE:GREGORIAN
BEGIN:VEVENT
UID:8cb09e3c-22d0-4678-8e53-797e6426fd1e@sportplan.local
DTSTAMP:20260420T210637Z
DTSTART;VALUE=DATE:20260919
DTEND;VALUE=DATE:20260920
SUMMARY:Oslo Marathon 2026
DESCRIPTION:Oslo Marathon 2026 arrangeres 19 september 2026 i Oslo\, Oslo. Dette er en flott mulighet til å få en god løpsopplevelse\, med en løype på 42.2 km og en motiverende løpsatmosfære. Passer både for dem som jakter tid og for dem som vil nyte løypa og stemningen rundt arrangementet.
LOCATION:Oslo\, Oslo
URL:https://sportplan.vercel.app/en/events/oslo-marathon-2026-oslo-2026-09-19
END:VEVENT
END:VCALENDAR
