BEGIN:VCALENDAR
VERSION:2.0
PRODID:-//SportPlan//Event Calendar//EN
CALSCALE:GREGORIAN
BEGIN:VEVENT
UID:797cc280-049b-4a14-bedf-c9a7dfd6b81e@sportplan.local
DTSTAMP:20260420T193938Z
DTSTART;VALUE=DATE:20260614
DTEND;VALUE=DATE:20260615
SUMMARY:Olympus Marathon 2026
DESCRIPTION:The official Olympus Marathon site lists the 2026 mountain-running festival on Mount Olympus\, including Olympus Marathon on 27 June 2026 from Dion plus the surrounding Vertical\, Eagles’ Ridge\, and Melindra Trail races. The organizer presents Olympus Marathon as its flagship 44 km route with 3\,350 m of ascent on the historic Mountain of the Gods course.
LOCATION:Litochoro\, Central Macedonia
URL:https://sportplan.vercel.app/en/events/olympus-marathon-2026-litochoro-2026-06-14
END:VEVENT
END:VCALENDAR
