BEGIN:VCALENDAR
VERSION:2.0
PRODID:-//SportPlan//Event Calendar//EN
CALSCALE:GREGORIAN
BEGIN:VEVENT
UID:bb4eada2-e9e9-4e0e-a535-66a758621973@sportplan.local
DTSTAMP:20260420T204801Z
DTSTART;VALUE=DATE:20261107
DTEND;VALUE=DATE:20261109
SUMMARY:Old Florida Gravel
DESCRIPTION:Old Florida Gravel will take place on 2026-11-07 at Lake City. It promises a welcoming event atmosphere\, solid organization\, and an enjoyable experience to share with fellow participants. A great opportunity to add a new goal to the calendar and enjoy an active day in a memorable setting.
LOCATION:Lake City
URL:https://sportplan.vercel.app/en/events/old-florida-gravel-lake-city-2026-11-07
END:VEVENT
END:VCALENDAR
