BEGIN:VCALENDAR
VERSION:2.0
PRODID:-//SportPlan//Event Calendar//EN
CALSCALE:GREGORIAN
BEGIN:VEVENT
UID:93c6a430-6a95-450b-bba2-12be061725a4@sportplan.local
DTSTAMP:20260420T222430Z
DTSTART;VALUE=DATE:20261031
DTEND;VALUE=DATE:20261101
SUMMARY:Oh Meu Deus By UTMB 50K
DESCRIPTION:Oh Meu Deus By UTMB 50K acontece em 31 de outubro de 2026\, em Sintra\, Lisboa. É uma boa opção para quem quer aproveitar o evento ao vivo e organizar o dia com antecedência. O local previsto fica a cerca de 50 km\, por isso vale a pena confirmar acessos\, horários e estrutura antes de sair.
LOCATION:Sintra\, Lisboa
URL:https://sportplan.vercel.app/en/events/oh-meu-deus-by-utmb-50k-sintra-2026-10-31
END:VEVENT
END:VCALENDAR
