BEGIN:VCALENDAR
VERSION:2.0
PRODID:-//SportPlan//Event Calendar//EN
CALSCALE:GREGORIAN
BEGIN:VEVENT
UID:45de94a2-20f8-49b8-807a-1f04d7bbe69d@sportplan.local
DTSTAMP:20260420T193639Z
DTSTART;VALUE=DATE:20261107
DTEND;VALUE=DATE:20261109
SUMMARY:OCEANMAN Ayia Napa Cyprus 2026
DESCRIPTION:OCEANMAN Ayia Napa Cyprus is an amateur open-water swimming weekend at Ayia Napa Marina on 7 and 8 November 2026\, with 10 km\, 5 km\, 2 km\, kids\, and team races.
LOCATION:Ayia Napa Marina\, Ayia Napa
URL:https://sportplan.vercel.app/en/events/oceanman-ayia-napa-cyprus-2026-2026-11-07
END:VEVENT
END:VCALENDAR
