BEGIN:VCALENDAR
VERSION:2.0
PRODID:-//SportPlan//Event Calendar//EN
CALSCALE:GREGORIAN
BEGIN:VEVENT
UID:4a4e3f9d-298a-48e6-9639-79f321802b5b@sportplan.local
DTSTAMP:20260420T205954Z
DTSTART;VALUE=DATE:20260719
DTEND;VALUE=DATE:20260726
SUMMARY:O-Ringen Göteborg 2026
DESCRIPTION:O-Ringen Göteborg 2026 is an official multi-day amateur orienteering festival in Gothenburg\, Sweden from 19 to 25 July 2026. The official O-Ringen competition overview states that Göteborg 2026 offers participation for everyone\, including five-day and three-day open classes\, single-stage entries\, beginner classes for children and adults\, and additional MTBO and precision-orienteering formats.
LOCATION:Gothenburg
URL:https://sportplan.vercel.app/en/events/o-ringen-goteborg-2026-2026-07-19
END:VEVENT
END:VCALENDAR
