BEGIN:VCALENDAR
VERSION:2.0
PRODID:-//SportPlan//Event Calendar//EN
CALSCALE:GREGORIAN
BEGIN:VEVENT
UID:9bb71931-df10-4ece-8937-4a8d1a337363@sportplan.local
DTSTAMP:20260420T210811Z
DTSTART;VALUE=DATE:20260613
DTEND;VALUE=DATE:20260614
SUMMARY:Nordsjørittet 2026 – Early Bird Prices
DESCRIPTION:Official Nordsjørittet 2026 pricing sub-page\; confirmed accessible via information hub\; contains Early Bird 2026 pricing information\; stable sub-page from official event site\; Norway cycling discovery run
LOCATION:Rogaland\, Norway
URL:https://sportplan.vercel.app/en/events/nordsj-rittet-2026-early-bird-prices-2026-06-13
END:VEVENT
END:VCALENDAR
