BEGIN:VCALENDAR
VERSION:2.0
PRODID:-//SportPlan//Event Calendar//EN
CALSCALE:GREGORIAN
BEGIN:VEVENT
UID:8f6ed83d-25c1-413e-b9e1-45e5e49c33e8@sportplan.local
DTSTAMP:20260420T191842Z
DTSTART;VALUE=DATE:20260627
DTEND;VALUE=DATE:20260628
SUMMARY:Nocturna Trail Zaragoza
DESCRIPTION:Nocturna Trail Zaragoza se celebrará el 2026-06-27 en Zaragoza ciudad. Es una buena opción para quienes buscan un reto bien organizado sobre una distancia de 10 km. Ideal tanto para participantes que quieren competir como para quienes prefieren disfrutar del ambiente del evento.
LOCATION:Zaragoza ciudad
URL:https://sportplan.vercel.app/en/events/nocturna-trail-zaragoza-zaragoza-2026-06-27
END:VEVENT
END:VCALENDAR
