BEGIN:VCALENDAR
VERSION:2.0
PRODID:-//SportPlan//Event Calendar//EN
CALSCALE:GREGORIAN
BEGIN:VEVENT
UID:3faf1ca8-d638-4176-93e3-e7e74b650e3e@sportplan.local
DTSTAMP:20260420T194801Z
DTSTART;VALUE=DATE:20260424
DTEND;VALUE=DATE:20260425
SUMMARY:No Finish Line Brussels
DESCRIPTION:No Finish Line Brussels a lieu à Bruselas le 24 avril 2026. C’est un rendez-vous parfait pour profiter d’une belle journée de course\, avec une belle ambiance de course et un parcours adapté à différents profils de coureurs. Que vous visiez la performance ou une expérience plus conviviale\, l’événement promet une ambiance motivante du début à la fin.
LOCATION:Bruselas
URL:https://sportplan.vercel.app/en/events/no-finish-line-brussels-bruselas-2026-04-24
END:VEVENT
END:VCALENDAR
