BEGIN:VCALENDAR
VERSION:2.0
PRODID:-//SportPlan//Event Calendar//EN
CALSCALE:GREGORIAN
BEGIN:VEVENT
UID:5f725068-627c-4fe0-925e-938e7ed61251@sportplan.local
DTSTAMP:20260420T210934Z
DTSTART;VALUE=DATE:20261011
DTEND;VALUE=DATE:20261012
SUMMARY:Nike Melbourne Marathon Festival 2026
DESCRIPTION:Australia's largest marathon festival since 1978\; marathon + half + 10K + 5K\; start at Batman Ave\, finish at MCG\; discovered via runningcalendar.com.au
LOCATION:Melbourne\, VIC\, Australia
URL:https://sportplan.vercel.app/en/events/nike-melbourne-marathon-festival-2026-2026-10-11
END:VEVENT
END:VCALENDAR
