BEGIN:VCALENDAR
VERSION:2.0
PRODID:-//SportPlan//Event Calendar//EN
CALSCALE:GREGORIAN
BEGIN:VEVENT
UID:70a7d395-b2b4-4423-bfab-f780caf118cf@sportplan.local
DTSTAMP:20260420T224554Z
DTSTART;VALUE=DATE:20260926
DTEND;VALUE=DATE:20260927
SUMMARY:Night Trail Huy 2026
DESCRIPTION:Night Trail Huy 2026 aura lieu le 26 septembre 2026 à Huy\, Wallonia\, avec une ambiance sportive pensée pour les participants en quête d'un défi bien organisé. Avec un parcours de 35 km\, l'événement permet de se fixer un bel objectif\, de profiter du cadre et de vivre une expérience dynamique du départ à l'arrivée.
LOCATION:Huy\, Wallonia
URL:https://sportplan.vercel.app/en/events/night-trail-huy-2026-huy-2026-09-26
END:VEVENT
END:VCALENDAR
