BEGIN:VCALENDAR
VERSION:2.0
PRODID:-//SportPlan//Event Calendar//EN
CALSCALE:GREGORIAN
BEGIN:VEVENT
UID:52f034c9-6451-4fcf-a532-61484caff12e@sportplan.local
DTSTAMP:20260420T204652Z
DTSTART;VALUE=DATE:20260709
DTEND;VALUE=DATE:20260710
SUMMARY:Naktinis moterų triatlonas 2026
DESCRIPTION:Naktinis moterų triatlonas 2026 is listed in the official 2026 Lithuanian Triathlon Federation calendar for 9 July 2026 in Vilnius\, Lithuania. The federation calendar presents it as an amateur women-focused triathlon event with super sprint distance and children's triathlon formats.
LOCATION:Vilnius
URL:https://sportplan.vercel.app/en/events/naktinis-moteru-triatlonas-2026-2026-07-09
END:VEVENT
END:VCALENDAR
