BEGIN:VCALENDAR
VERSION:2.0
PRODID:-//SportPlan//Event Calendar//EN
CALSCALE:GREGORIAN
BEGIN:VEVENT
UID:825e870a-a5cb-48ef-a8ec-226bdf45d964@sportplan.local
DTSTAMP:20260420T210341Z
DTSTART;VALUE=DATE:20261025
DTEND;VALUE=DATE:20261026
SUMMARY:Nairobi Marathon 2026
DESCRIPTION:
LOCATION:Nairobi\, Nairobi
URL:https://sportplan.vercel.app/en/events/nairobi-marathon-2026-nairobi-2026-10-25
END:VEVENT
END:VCALENDAR
