BEGIN:VCALENDAR
VERSION:2.0
PRODID:-//SportPlan//Event Calendar//EN
CALSCALE:GREGORIAN
BEGIN:VEVENT
UID:f4b52ae4-f680-4f7d-9559-46f95b05532e@sportplan.local
DTSTAMP:20260420T210341Z
DTSTART;VALUE=DATE:20260703
DTEND;VALUE=DATE:20260704
SUMMARY:Nachtmammut Hamburg 2026
DESCRIPTION:Nachtmammut Hamburg 2026 is an official amateur walking-hiking participation event in Hamburg\, Germany on 3 July 2026. The official Nachtmammut Hamburg page confirms the event date\, start and finish at Cruise Center Baakenhöft in HafenCity\, and open 30 km and 42 km night-hike participation formats for regular athletes.
LOCATION:Hamburg
URL:https://sportplan.vercel.app/en/events/nachtmammut-hamburg-2026-2026-07-03
END:VEVENT
END:VCALENDAR
