BEGIN:VCALENDAR
VERSION:2.0
PRODID:-//SportPlan//Event Calendar//EN
CALSCALE:GREGORIAN
BEGIN:VEVENT
UID:294e057e-7633-417c-bbaa-ff795bb2801b@sportplan.local
DTSTAMP:20260420T193822Z
DTSTART;VALUE=DATE:20260516
DTEND;VALUE=DATE:20260517
SUMMARY:Mzv 5.5 KM
DESCRIPTION:Mzv 5.5 KM si svolge il 16 maggio 2026 a Châtillon. La gara si sviluppa su 5.5 km. Ideale per godersi il percorso\, l'atmosfera della gara e una giornata attiva.
LOCATION:Châtillon
URL:https://sportplan.vercel.app/en/events/mzv-5-5-km-chatillon-2026-05-16-5-5k
END:VEVENT
END:VCALENDAR
