BEGIN:VCALENDAR
VERSION:2.0
PRODID:-//SportPlan//Event Calendar//EN
CALSCALE:GREGORIAN
BEGIN:VEVENT
UID:8f9f3e67-567c-4878-894f-087138b883d3@sportplan.local
DTSTAMP:20260420T193449Z
DTSTART;VALUE=DATE:20260426
DTEND;VALUE=DATE:20260427
SUMMARY:Mt Solitary Ultra
DESCRIPTION:
LOCATION:Sídney
URL:https://sportplan.vercel.app/en/events/mt-solitary-ultra-sidney-2026-04-26
END:VEVENT
END:VCALENDAR
