BEGIN:VCALENDAR
VERSION:2.0
PRODID:-//SportPlan//Event Calendar//EN
CALSCALE:GREGORIAN
BEGIN:VEVENT
UID:a83acb3a-387b-4d97-9a04-b4df21768cb1@sportplan.local
DTSTAMP:20260420T180549Z
DTSTART;VALUE=DATE:20260503
DTEND;VALUE=DATE:20260504
SUMMARY:Mornington Running Festival
DESCRIPTION:Mornington Running Festival takes place in Melbourne on May 3\, 2026\, offering participants a great chance to enjoy the atmosphere of race day in this destination. The route distance is to be confirmed. Expect an energizing event environment\, local support on site\, and a course suited to both dedicated runners and motivated newcomers.
LOCATION:Melbourne
URL:https://sportplan.vercel.app/en/events/mornington-running-festival-melbourne-2026-05-03
END:VEVENT
END:VCALENDAR
