BEGIN:VCALENDAR
VERSION:2.0
PRODID:-//SportPlan//Event Calendar//EN
CALSCALE:GREGORIAN
BEGIN:VEVENT
UID:a64e6c95-a6b9-4ea3-b56d-437f6b1d72eb@sportplan.local
DTSTAMP:20260420T192053Z
DTSTART;VALUE=DATE:20260510
DTEND;VALUE=DATE:20260511
SUMMARY:Monttrail los Yebenes 2026. — 26 K 26K
DESCRIPTION:Monttrail los Yebenes 2026. — 26 K 26K se celebra en Toledo el 10 de mayo de 2026\, reuniendo a corredores en un ambiente lleno de energía. El recorrido pone en valor el entorno natural de Toledo a lo largo de 26 km\, ideal para quienes disfrutan del trail y la aventura.
LOCATION:Toledo
URL:https://sportplan.vercel.app/en/events/monttrail-los-yebenes-2026-26-k-26k-toledo-2026-05-10
END:VEVENT
END:VCALENDAR
