BEGIN:VCALENDAR
VERSION:2.0
PRODID:-//SportPlan//Event Calendar//EN
CALSCALE:GREGORIAN
BEGIN:VEVENT
UID:a1290f6e-0f0b-4427-ba17-49cc8d6c9585@sportplan.local
DTSTAMP:20260421T010018Z
DTSTART;VALUE=DATE:20260920
DTEND;VALUE=DATE:20260921
SUMMARY:Montreal Marathon 2026
DESCRIPTION:
LOCATION:Montreal\, Québec
URL:https://sportplan.vercel.app/en/events/montreal-marathon-2026-montreal-2026-09-20
END:VEVENT
END:VCALENDAR
