BEGIN:VCALENDAR
VERSION:2.0
PRODID:-//SportPlan//Event Calendar//EN
CALSCALE:GREGORIAN
BEGIN:VEVENT
UID:81dd6578-7556-49e4-b845-ac24de816c79@sportplan.local
DTSTAMP:20260420T204723Z
DTSTART;VALUE=DATE:20260428
DTEND;VALUE=DATE:20260429
SUMMARY:Montaltrail - Mitja Marató
DESCRIPTION:Montaltrail - Mitja Marató se celebrará el 28 de abril de 2026 en Sant Vicenç de Montalt\, Barcelona\, Cataluña. Es una buena opción para quienes buscan sumar una experiencia deportiva bien organizada sobre una distancia de unos 21 km. Ideal tanto para participantes habituales como para quienes quieren marcarse un nuevo reto en el calendario.
LOCATION:Sant Vicenç de Montalt\, Barcelona\, Cataluña
URL:https://sportplan.vercel.app/en/events/montaltrail-mitja-marato-sant-vicenc-de-montalt-2026-04-28-21k
END:VEVENT
END:VCALENDAR
