BEGIN:VCALENDAR
VERSION:2.0
PRODID:-//SportPlan//Event Calendar//EN
CALSCALE:GREGORIAN
BEGIN:VEVENT
UID:9efda70f-83de-421f-bd8e-899065c3ea66@sportplan.local
DTSTAMP:20260420T204530Z
DTSTART;VALUE=DATE:20260530
DTEND;VALUE=DATE:20260531
SUMMARY:Mondseeland Halbmarathon
DESCRIPTION:Mondseeland Halbmarathon ist eine Veranstaltung am 2026-05-30 in Mondsee. Sie ist eine gute Wahl für alle\, die ein gut organisiertes Sportevent suchen. Die Veranstaltung passt sowohl zu erfahrenen Teilnehmenden als auch zu Menschen\, die etwas Neues ausprobieren möchten.
LOCATION:Mondsee
URL:https://sportplan.vercel.app/en/events/mondseeland-halbmarathon-mondsee-2026-05-30
END:VEVENT
END:VCALENDAR
