BEGIN:VCALENDAR
VERSION:2.0
PRODID:-//SportPlan//Event Calendar//EN
CALSCALE:GREGORIAN
BEGIN:VEVENT
UID:4164d1c1-7bc0-41c7-987b-0c8449db3dc8@sportplan.local
DTSTAMP:20260420T204326Z
DTSTART;VALUE=DATE:20260823
DTEND;VALUE=DATE:20260824
SUMMARY:Molėtų triatlonas 2026
DESCRIPTION:Molėtų triatlonas 2026 is an official amateur triathlon event in Molėtai\, Lithuania on 23 August 2026\, listed in the 2026 Lithuanian Triathlon Federation calendar. The federation calendar lists open participation formats including Olympic distance\, sprint distance\, TRI-FUN\, children’s triathlon\, and Splash and Run\, alongside Lithuanian youth cup categories.
LOCATION:Molėtai
URL:https://sportplan.vercel.app/en/events/moletu-triatlonas-2026-moletai-2026-08-23
END:VEVENT
END:VCALENDAR
