BEGIN:VCALENDAR
VERSION:2.0
PRODID:-//SportPlan//Event Calendar//EN
CALSCALE:GREGORIAN
BEGIN:VEVENT
UID:76f867dd-9edd-42b7-8a16-bd81be80deb2@sportplan.local
DTSTAMP:20260420T191905Z
DTSTART;VALUE=DATE:20260427
DTEND;VALUE=DATE:20260428
SUMMARY:Mitja Desvern - 8K
DESCRIPTION:Mitja Desvern - 8K se celebra el 27 de abril de 2026 en Sant Just Desvern\, Barcelona\, Cataluña\, con un recorrido de 8 km. Es una gran cita para corredores que buscan una experiencia bien organizada y un ambiente competitivo en un entorno destacado.
LOCATION:Sant Just Desvern\, Barcelona\, Cataluña
URL:https://sportplan.vercel.app/en/events/mitja-desvern-8k-sant-just-desvern-2026-04-27-8k
END:VEVENT
END:VCALENDAR
