BEGIN:VCALENDAR
VERSION:2.0
PRODID:-//SportPlan//Event Calendar//EN
CALSCALE:GREGORIAN
BEGIN:VEVENT
UID:cbf0b489-c782-418a-8525-e6f103fee4bc@sportplan.local
DTSTAMP:20260420T221541Z
DTSTART;VALUE=DATE:20261205
DTEND;VALUE=DATE:20261206
SUMMARY:Mispo Winter Marathon
DESCRIPTION:Priority scout batch\; discovered via World’s Marathons Estonia pages/web_fetch.
LOCATION:Vändra\, Estonia
URL:https://sportplan.vercel.app/en/events/mispo-winter-marathon-2026-12-05
END:VEVENT
END:VCALENDAR
