BEGIN:VCALENDAR
VERSION:2.0
PRODID:-//SportPlan//Event Calendar//EN
CALSCALE:GREGORIAN
BEGIN:VEVENT
UID:d032c443-3b1c-4cb1-8e93-044b3f8ca965@sportplan.local
DTSTAMP:20260420T191604Z
DTSTART;VALUE=DATE:20260725
DTEND;VALUE=DATE:20260726
SUMMARY:Mispo Trail Marathon
DESCRIPTION:Priority scout batch\; discovered via World’s Marathons Estonia pages/web_fetch.
LOCATION:Kurgja\, Estonia
URL:https://sportplan.vercel.app/en/events/mispo-trail-marathon-2026-07-25
END:VEVENT
END:VCALENDAR
