BEGIN:VCALENDAR
VERSION:2.0
PRODID:-//SportPlan//Event Calendar//EN
CALSCALE:GREGORIAN
BEGIN:VEVENT
UID:f58d9819-a739-4127-84e7-aa9dfb2daa7b@sportplan.local
DTSTAMP:20260420T204605Z
DTSTART;VALUE=DATE:20260517
DTEND;VALUE=DATE:20260518
SUMMARY:Mimosa For Life Lisboa a Mulher e a Vida
DESCRIPTION:Mimosa For Life Lisboa a Mulher e a Vida acontece em 17 maio 2026\, em Lisboa\, reunindo corredores para um dia de desporto num cenário marcante. O percurso e o ambiente tornam esta corrida uma ótima opção para quem procura um novo desafio.
LOCATION:Lisboa
URL:https://sportplan.vercel.app/en/events/mimosa-for-life-lisboa-a-mulher-e-a-vida-lisboa-2026-05-17
END:VEVENT
END:VCALENDAR
