BEGIN:VCALENDAR
VERSION:2.0
PRODID:-//SportPlan//Event Calendar//EN
CALSCALE:GREGORIAN
BEGIN:VEVENT
UID:0f319edb-8bc8-48dc-9ad5-566d3f563fa7@sportplan.local
DTSTAMP:20260420T204815Z
DTSTART;VALUE=DATE:20261012
DTEND;VALUE=DATE:20261013
SUMMARY:Mezza Maratona di Bergamo 2026
DESCRIPTION:Mezza Maratona di Bergamo 2026 si svolgerà il 12 de ottobre de 2026 a Bergamo\, Lombardia. È un appuntamento ideale per chi cerca un evento ben organizzato e una coinvolgente atmosfera di gara\, con un percorso di 21.1 km. Una prova adatta sia a chi punta al risultato sia a chi vuole vivere al meglio il percorso e l'esperienza dell'evento.
LOCATION:Bergamo\, Lombardia
URL:https://sportplan.vercel.app/en/events/mezza-maratona-di-bergamo-2026-bergamo-2026-10-12
END:VEVENT
END:VCALENDAR
